Workbook
Name ___Xk366: [1]Consolidado!$O$1065,[1]Consolidado!$O$1051
Name __ra113001: #REF!
Name __ra113001: #REF!
Name __ra113001: #REF!
Name __ra113001: #REF!
Name __ra113001: #REF!
Name __ra113001: #REF!
Name __ra113001: #REF!
Name __ra113001: #REF!
Name __ra113001: #REF!
Name __ra113001: #REF!
Name __RA211006: #REF!
Name __RA211006: #REF!
Name __RA211006: #REF!
Name __RA211006: #REF!
Name __RA211006: #REF!
Name __RA211006: #REF!
Name __RA211006: #REF!
Name __RA211006: #REF!
Name __raa118: #REF!
Name __raa118: #REF!
Name __raa118: #REF!
Name __raa118: #REF!
Name __raa118: #REF!
Name __raa118: #REF!
Name __raa118: #REF!
Name __raa118: #REF!
Name __Xk366: [2]Consolidado!$N$3012,[2]Consolidado!$N$3008
Name _IK100000: #REF!
Name _IK100000: #REF!
Name _IK100000: #REF!
Name _IK100000: #REF!
Name _IK100000: #REF!
Name _IK100000: #REF!
Name _IK100000: #REF!
Name _IK100000: #REF!
Name _IK100000: #REF!
Name _IK100000: #REF!
Name _IK100000: #REF!
Name _IK100000: #REF!
Name _IK100000: #REF!
Name _IK66000: #REF!
Name _IK66000: #REF!
Name _IK66000: #REF!
Name _IK66000: #REF!
Name _IK66000: #REF!
Name _IK66000: #REF!
Name _IK66000: #REF!
Name _IK66000: #REF!
Name _IK67000: #REF!
Name _IK67000: #REF!
Name _IK67000: #REF!
Name _IK67000: #REF!
Name _IK67000: #REF!
Name _IK67000: #REF!
Name _IK67000: #REF!
Name _IK67000: #REF!
Name _IK70000: #REF!
Name _IK70000: #REF!
Name _IK90000: #REF!

Sheet ClassificacaoFuncional
A2: EXECUÇÃO ORÇAMENTAL - ORÇAMENTO DA SEGURANÇA SOCIAL
A3: CLASSIFICAÇÃO FUNCIONAL
A4: SETEMBRO 2026
N6: USD
A7: Classificação Funcional | B7: OSS inicial | C7: OSS corrigido | D7: Cabimentos | E7: Compromissos | F7: Obrigações | G7: Despesa Executada | H7: Taxa Execução (%) | I7: Saldo Execução | J7: Saldo disponível (Execução+Cabimentos) | K7: Saldo não comprometido | L7: Valor Cabimentado e não comprometido | M7: Valor Comprometido e não liquidado | N7: Valor Liquidado e não pago (DIVIDA)
B8: (1) | C8: (2) | D8: (3) | E8: (4) | F8: (5) | G8: (6) | H8: (7) | I8: (8) = (2) - (6) | J8: (9) = (2) - (3) | K8: (10) = (2) - (4) | L8: (11) = (3) - (4) | M8: (12) = (4) - (5) | N8: (13) = (5) - (6)
A9: 01. - Serviços gerais da administração pública | B9: 333807 | C9: 198454.21 | D9: 198454.21 | E9: 112094.09 | F9: 112094.09 | G9: 112094.09 | H9: 0.56483604 | I9: 86360.12 | J9: 0 | K9: 86360.12 | L9: 86360.12 | M9: 0 | N9: 0
A10: 01.01 - Órgãos executivos e legislativos, assuntos financeiros e fiscais, assuntos externos | B10: 0 | C10: 0 | D10: 0 | E10: 0 | F10: 0 | G10: 0 | H10: #DIV/0! | I10: 0 | J10: 0 | K10: 0 | L10: 0 | M10: 0 | N10: 0
A11: 01.02 - Ajuda económica externa | B11: 0 | C11: 0 | D11: 0 | E11: 0 | F11: 0 | G11: 0 | H11: #DIV/0! | I11: 0 | J11: 0 | K11: 0 | L11: 0 | M11: 0 | N11: 0
A12: 01.03 - Serviços gerais da administração pública | B12: 0 | C12: 0 | D12: 0 | E12: 0 | F12: 0 | G12: 0 | H12: #DIV/0! | I12: 0 | J12: 0 | K12: 0 | L12: 0 | M12: 0 | N12: 0
A13: 01.04 - Investigação básica | B13: 0 | C13: 0 | D13: 0 | E13: 0 | F13: 0 | G13: 0 | H13: #DIV/0! | I13: 0 | J13: 0 | K13: 0 | L13: 0 | M13: 0 | N13: 0
A14: 01.05 - Serviços públicos gerais de investigação e desenvolvimento | B14: 0 | C14: 0 | D14: 0 | E14: 0 | F14: 0 | G14: 0 | H14: #DIV/0! | I14: 0 | J14: 0 | K14: 0 | L14: 0 | M14: 0 | N14: 0
A15: 01.06 - Serviços públicos gerais não especificados | B15: 0 | C15: 0 | D15: 0 | E15: 0 | F15: 0 | G15: 0 | H15: #DIV/0! | I15: 0 | J15: 0 | K15: 0 | L15: 0 | M15: 0 | N15: 0
A16: 01.07 - Operações de dívida pública | B16: 0 | C16: 0 | D16: 0 | E16: 0 | F16: 0 | G16: 0 | H16: #DIV/0! | I16: 0 | J16: 0 | K16: 0 | L16: 0 | M16: 0 | N16: 0
A17: 01.08 - Transferências de caráter geral entre diferentes níveis da administração pública | B17: 333807 | C17: 198454.21 | D17: 198454.21 | E17: 112094.09 | F17: 112094.09 | G17: 112094.09 | H17: 0.56483604 | I17: 86360.12 | J17: 0 | K17: 86360.12 | L17: 86360.12 | M17: 0 | N17: 0
A18: 02. - Defesa | B18: 0 | C18: 0 | D18: 0 | E18: 0 | F18: 0 | G18: 0 | H18: #DIV/0! | I18: 0 | J18: 0 | K18: 0 | L18: 0 | M18: 0 | N18: 0
A19: 02.01 - Defesa militar | B19: 0 | C19: 0 | D19: 0 | E19: 0 | F19: 0 | G19: 0 | H19: #DIV/0! | I19: 0 | J19: 0 | K19: 0 | L19: 0 | M19: 0 | N19: 0
A20: 02.02 - Defesa civil | B20: 0 | C20: 0 | D20: 0 | E20: 0 | F20: 0 | G20: 0 | H20: #DIV/0! | I20: 0 | J20: 0 | K20: 0 | L20: 0 | M20: 0 | N20: 0
A21: 02.03 - Ajuda militar ao estrangeiro | B21: 0 | C21: 0 | D21: 0 | E21: 0 | F21: 0 | G21: 0 | H21: #DIV/0! | I21: 0 | J21: 0 | K21: 0 | L21: 0 | M21: 0 | N21: 0
A22: 02.04 - Investigação e desenvolvimento em defesa | B22: 0 | C22: 0 | D22: 0 | E22: 0 | F22: 0 | G22: 0 | H22: #DIV/0! | I22: 0 | J22: 0 | K22: 0 | L22: 0 | M22: 0 | N22: 0
A23: 02.05 - Serviços de defesa não especificados | B23: 0 | C23: 0 | D23: 0 | E23: 0 | F23: 0 | G23: 0 | H23: #DIV/0! | I23: 0 | J23: 0 | K23: 0 | L23: 0 | M23: 0 | N23: 0
A24: 03. - Segurança e ordem pública | B24: 0 | C24: 0 | D24: 0 | E24: 0 | F24: 0 | G24: 0 | H24: #DIV/0! | I24: 0 | J24: 0 | K24: 0 | L24: 0 | M24: 0 | N24: 0
A25: 03.01 - Segurança pública | B25: 0 | C25: 0 | D25: 0 | E25: 0 | F25: 0 | G25: 0 | H25: #DIV/0! | I25: 0 | J25: 0 | K25: 0 | L25: 0 | M25: 0 | N25: 0
A26: 03.02 - Serviços de bombeiros | B26: 0 | C26: 0 | D26: 0 | E26: 0 | F26: 0 | G26: 0 | H26: #DIV/0! | I26: 0 | J26: 0 | K26: 0 | L26: 0 | M26: 0 | N26: 0
A27: 03.03 - Tribunais | B27: 0 | C27: 0 | D27: 0 | E27: 0 | F27: 0 | G27: 0 | H27: #DIV/0! | I27: 0 | J27: 0 | K27: 0 | L27: 0 | M27: 0 | N27: 0
A28: 03.04 - Prisões | B28: 0 | C28: 0 | D28: 0 | E28: 0 | F28: 0 | G28: 0 | H28: #DIV/0! | I28: 0 | J28: 0 | K28: 0 | L28: 0 | M28: 0 | N28: 0
A29: 03.05 - Investigação e desenvolvimento em segurança e ordem pública | B29: 0 | C29: 0 | D29: 0 | E29: 0 | F29: 0 | G29: 0 | H29: #DIV/0! | I29: 0 | J29: 0 | K29: 0 | L29: 0 | M29: 0 | N29: 0
... A77: 09.08 - Serviços de educação não especificados | B77: 0 | C77: 0 | D77: 0 | E77: 0 | F77: 0 | G77: 0 | H77: #DIV/0! | I77: 0 | J77: 0 | K77: 0 | L77: 0 | M77: 0 | N77: 0
A78: 10. - Proteção Social | B78: 170399205 | C78: 1.9790577e+08 | D78: 1.9581305e+08 | E78: 1.3817495e+08 | F78: 1.3719592e+08 | G78: 1.3716475e+08 | H78: 0.6930811 | I78: 60741022 | J78: 2092720.6 | K78: 59730817 | L78: 57638096 | M78: 979037.3 | N78: 31168.017
A79: 10.01 - Doença, incapacidade e deficiência | B79: 9795940 | C79: 9482940 | D79: 9482940 | E79: 7240913.1 | F79: 7145610.9 | G79: 7145523.2 | H79: 0.75351349 | I79: 2337416.8 | J79: 0 | K79: 2242026.9 | L79: 2242026.9 | M79: 95302.186 | N79: 87.76
A80: 10.02 - Velhice | B80: 108198962 | C80: 111016962 | D80: 111016962 | E80: 71346762 | F80: 71111102 | G80: 71080742 | H80: 0.64026921 | I80: 39936220 | J80: 0 | K80: 39670200 | L80: 39670200 | M80: 235659.37 | N80: 30360
A81: 10.03 - Morte e sobrevivência | B81: 6327000 | C81: 6577000 | D81: 6577000 | E81: 3988290.2 | F81: 3980896.4 | G81: 3980376.1 | H81: 0.60519631 | I81: 2596623.9 | J81: 0 | K81: 2588709.8 | L81: 2588709.8 | M81: 7393.879 | N81: 520.23106
A82: 10.04 - Família e infância | B82: 1051000 | C82: 1051000 | D82: 1051000 | E82: 569901.25 | F82: 519255.64 | G82: 519255.64 | H82: 0.49405865 | I82: 531744.36 | J82: 0 | K82: 481098.75 | L82: 481098.75 | M82: 50645.611 | N82: -0.0040000008
A83: 10.05 - Desemprego | B83: 0 | C83: 0 | D83: 0 | E83: 0 | F83: 0 | G83: 0 | H83: #DIV/0! | I83: 0 | J83: 0 | K83: 0 | L83: 0 | M83: 0 | N83: 0
A84: 10.06 - Habitação | B84: 0 | C84: 0 | D84: 0 | E84: 0 | F84: 0 | G84: 0 | H84: #DIV/0! | I84: 0 | J84: 0 | K84: 0 | L84: 0 | M84: 0 | N84: 0
A85: 10.07 - Pobreza e exclusão social não especificada | B85: 0 | C85: 0 | D85: 0 | E85: 0 | F85: 0 | G85: 0 | H85: #DIV/0! | I85: 0 | J85: 0 | K85: 0 | L85: 0 | M85: 0 | N85: 0
A86: 10.08 - Investigação e desenvolvimento em proteção social | B86: 0 | C86: 0 | D86: 0 | E86: 0 | F86: 0 | G86: 0 | H86: #DIV/0! | I86: 0 | J86: 0 | K86: 0 | L86: 0 | M86: 0 | N86: 0
A87: 10.09 - Serviços de proteção social não especificados | B87: 45026303 | C87: 69777867 | D87: 67685147 | E87: 55029086 | F87: 54439050 | G87: 54438850 | H87: 0.7801736 | I87: 15339017 | J87: 2092720.6 | K87: 14748781 | L87: 12656060 | M87: 590036.25 | N87: 200.03
A88: TOTAL OSS (INSS+FRSS) | B88: 170733012 | C88: 1.9810422e+08 | D88: 1.960115e+08 | E88: 1.3828705e+08 | F88: 1.3730801e+08 | G88: 1.3727684e+08 | H88: 0.69295262 | I88: 60827382 | J88: 2092720.6 | K88: 59817177 | L88: 57724456 | M88: 979037.3 | N88: 31168.017
A89: TOTAL OSS CONSOLIDADO (INSS+FRSS) | B89: 170399205 | C89: 1.9790577e+08 | D89: 1.9581305e+08 | E89: 1.3817495e+08 | F89: 1.3719592e+08 | G89: 1.3716475e+08 | H89: 0.6930811 | I89: 60741022 | J89: 2092720.6 | K89: 59730817 | L89: 57638096 | M89: 979037.3 | N89: 31168.017

Sheet Programas
A3: EXECUÇÃO ORÇAMENTAL - ORÇAMENTO DA SEGURANÇA SOCIAL
A4: 106 - INSTITUTO NACIONAL DE SEGURANÇA SOCIAL
A5: SETEMBRO 2026
A7: Programa/Subprograma/Atividade | B7: TOTAL | O7: SALÁRIOS E VENCIMENTOS | AB7: BENS E SERVIÇOS | AO7: TRANSFERÊNCIAS PÚBLICAS | BB7: CAPITAL MENOR | BO7: CAPITAL DE DESENVOLVIMENTO
B8: OSS inicial | C8: OSS corrigido | D8: Cabimentos | E8: Compromissos | F8: Obrigações | G8: Despesa Executada | H8: Taxa Execução (%) | I8: Saldo Execução | J8: Saldo disponível (Execução+Cabimentos) | K8: Saldo não comprometido | L8: Valor Cabimentado e não comprometido | M8: Valor Comprometido e não liquidado | N8: Valor Liquidado e não pago (DIVIDA) | O8: OSS inicial | P8: OSS corrigido | Q8: Cabimentos | R8: Compromissos | S8: Obrigações | T8: Despesa Executada | U8: Taxa Execução (%) | V8: Saldo Execução | W8: Saldo disponível (Execução+Cabimentos) | X8: Saldo não comprometido | Y8: Valor Cabimentado e não comprometido | Z8: Valor Comprometido e não liquidado | AA8: Valor Liquidado e não pago (DIVIDA) | AB8: OSS inicial | AC8: OSS corrigido | AD8: Cabimentos | AE8: Compromissos | AF8: Obrigações | AG8: Despesa Executada | AH8: Taxa Execução (%) | AI8: Saldo Execução | AJ8: Saldo disponível (Execução+Cabimentos) | AK8: Saldo não comprometido | AL8: Valor Cabimentado e não comprometido | AM8: Valor Comprometido e não liquidado | AN8: Valor Liquidado e não pago (DIVIDA) | AO8: OSS inicial | AP8: OSS corrigido | AQ8: Cabimentos | AR8: Compromissos | AS8: Obrigações | AT8: Despesa Executada | AU8: Taxa Execução (%) | AV8: Saldo Execução | AW8: Saldo disponível (Execução+Cabimentos) | AX8: Saldo não comprometido | AY8: Valor Cabimentado e não comprometido | AZ8: Valor Comprometido e não liquidado | BA8: Valor Liquidado e não pago (DIVIDA) | BB8: OSS inicial | BC8: OSS corrigido | BD8: Cabimentos | BE8: Compromissos | BF8: Obrigações | BG8: Despesa Executada | BH8: Taxa Execução (%) | BI8: Saldo Execução | BJ8: Saldo disponível (Execução+Cabimentos) | BK8: Saldo não comprometido | BL8: Valor Cabimentado e não comprometido | BM8: Valor Comprometido e não liquidado | BN8: Valor Liquidado e não pago (DIVIDA) | BO8: OSS inicial | BP8: OSS corrigido | BQ8: Cabimentos | BR8: Compromissos | BS8: Obrigações | BT8: Despesa Executada | BU8: Taxa Execução (%) | BV8: Saldo Execução | BW8: Saldo disponível (Execução+Cabimentos) | BX8: Saldo não comprometido | BY8: Valor Cabimentado e não comprometido | BZ8: Valor Comprometido e não liquidado | CA8: Valor Liquidado e não pago (DIVIDA)
B9: (1) | C9: (2) | D9: (3) | E9: (4) | F9: (5) | G9: (6) | H9: (7) | I9: (8) = (2) - (6) | J9: (9) = (2) - (3) | K9: (10) = (2) - (4) | L9: (11) = (3) - (4) | M9: (12) = (4) - (5) | N9: (13) = (5) - (6) | O9: (1) | P9: (2) | Q9: (3) | R9: (4) | S9: (5) | T9: (6) | U9: (7) | V9: (8) = (2) - (6) | W9: (9) = (2) - (3) | X9: (10) = (2) - (4) | Y9: (11) = (3) - (4) | Z9: (12) = (4) - (5) | AA9: (13) = (5) - (6) | AB9: (1) | AC9: (2) | AD9: (3) | AE9: (4) | AF9: (5) | AG9: (6) | AH9: (7) | AI9: (8) = (2) - (6) | AJ9: (9) = (2) - (3) | AK9: (10) = (2) - (4) | AL9: (11) = (3) - (4) | AM9: (12) = (4) - (5) | AN9: (13) = (5) - (6) | AO9: (1) | AP9: (2) | AQ9: (3) | AR9: (4) | AS9: (5) | AT9: (6) | AU9: (7) | AV9: (8) = (2) - (6) | AW9: (9) = (2) - (3) | AX9: (10) = (2) - (4) | AY9: (11) = (3) - (4) | AZ9: (12) = (4) - (5) | BA9: (13) = (5) - (6) | BB9: (1) | BC9: (2) | BD9: (3) | BE9: (4) | BF9: (5) | BG9: (6) | BH9: (7) | BI9: (8) = (2) - (6) | BJ9: (9) = (2) - (3) | BK9: (10) = (2) - (4) | BL9: (11) = (3) - (4) | BM9: (12) = (4) - (5) | BN9: (13) = (5) - (6) | BO9: (1) | BP9: (2) | BQ9: (3) | BR9: (4) | BS9: (5) | BT9: (6) | BU9: (7) | BV9: (8) = (2) - (6) | BW9: (9) = (2) - (3) | BX9: (10) = (2) - (4) | BY9: (11) = (3) - (4) | BZ9: (12) = (4) - (5) | CA9: (13) = (5) - (6)
A10: Programa A04 - Regime Contributivo de Repartição | B10: 62649205 | C10: 90155769 | D10: 88155769 | E10: 65045718 | F10: 64969299 | G10: 64968691 | H10: 0.7206271 | I10: 25187078 | J10: 2000000 | K10: 25110052 | L10: 23110052 | M10: 76418.646 | N10: 607.98706 | O10: 0 | P10: 0 | Q10: 0 | R10: 0 | S10: 0 | T10: 0 | U10: #DIV/0! | V10: 0 | W10: 0 | X10: 0 | Y10: 0 | Z10: 0 | AA10: 0 | AB10: 0 | AC10: 0 | AD10: 0 | AE10: 0 | AF10: 0 | AG10: 0 | AH10: #DIV/0! | AI10: 0 | AJ10: 0 | AK10: 0 | AL10: 0 | AM10: 0 | AN10: 0 | AO10: 62649205 | AP10: 90155769 | AQ10: 88155769 | AR10: 65045718 | AS10: 64969299 | AT10: 64968691 | AU10: 0.7206271 | AV10: 25187078 | AW10: 2000000 | AX10: 25110052 | AY10: 23110052 | AZ10: 76418.646 | BA10: 607.98706 | BB10: 0 | BC10: 0 | BD10: 0 | BE10: 0 | BF10: 0 | BG10: 0 | BH10: #DIV/0! | BI10: 0 | BJ10: 0 | BK10: 0 | BL10: 0 | BM10: 0 | BN10: 0 | BO10: 0 | BP10: 0 | BQ10: 0 | BR10: 0 | BS10: 0 | BT10: 0 | BU10: #DIV/0! | BV10: 0 | BW10: 0 | BX10: 0 | BY10: 0 | BZ10: 0 | CA10: 0
A11: Subprograma A0401- Regime transitório de segurança social | B11: 16388400 | C11: 16388400 | D11: 16388400 | E11: 8136713.3 | F11: 8124128.7 | G11: 8124128.7 | H11: 0.49572434 | I11: 8264271.3 | J11: 0 | K11: 8251686.7 | L11: 8251686.7 | M11: 12584.625 | N11: 0 | O11: 0 | P11: 0 | Q11: 0 | R11: 0 | S11: 0 | T11: 0 | U11: #DIV/0! | V11: 0 | W11: 0 | X11: 0 | Y11: 0 | Z11: 0 | AA11: 0 | AB11: 0 | AC11: 0 | AD11: 0 | AE11: 0 | AF11: 0 | AG11: 0 | AH11: #DIV/0! | AI11: 0 | AJ11: 0 | AK11: 0 | AL11: 0 | AM11: 0 | AN11: 0 | AO11: 16388400 | AP11: 16388400 | AQ11: 16388400 | AR11: 8136713.3 | AS11: 8124128.7 | AT11: 8124128.7 | AU11: 0.49572434 | AV11: 8264271.3 | AW11: 0 | AX11: 8251686.7 | AY11: 8251686.7 | AZ11: 12584.625 | BA11: 0 | BB11: 0 | BC11: 0 | BD11: 0 | BE11: 0 | BF11: 0 | BG11: 0 | BH11: #DIV/0! | BI11: 0 | BJ11: 0 | BK11: 0 | BL11: 0 | BM11: 0 | BN11: 0 | BO11: 0 | BP11: 0 | BQ11: 0 | BR11: 0 | BS11: 0 | BT11: 0 | BU11: #DIV/0! | BV11: 0 | BW11: 0 | BX11: 0 | BY11: 0 | BZ11: 0 | CA11: 0
A12: Atividade A040101: Pagamento de prestações sociais de direito - regime transitório de segurança social | B12: 16388400 | C12: 16388400 | D12: 16388400 | E12: 8136713.3 | F12: 8124128.7 | G12: 8124128.7 | H12: 0.49572434 | I12: 8264271.3 | J12: 0 | K12: 8251686.7 | L12: 8251686.7 | M12: 12584.625 | N12: 0 | O12: 0 | P12: 0 | Q12: 0 | R12: 0 | S12: 0 | T12: 0 | U12: #DIV/0! | V12: 0 | W12: 0 | X12: 0 | Y12: 0 | Z12: 0 | AA12: 0 | AB12: 0 | AC12: 0 | AD12: 0 | AE12: 0 | AF12: 0 | AG12: 0 | AH12: #DIV/0! | AI12: 0 | AJ12: 0 | AK12: 0 | AL12: 0 | AM12: 0 | AN12: 0 | AO12: 16388400 | AP12: 16388400 | AQ12: 16388400 | AR12: 8136713.3 | AS12: 8124128.7 | AT12: 8124128.7 | AU12: 0.49572434 | AV12: 8264271.3 | AW12: 0 | AX12: 8251686.7 | AY12: 8251686.7 | AZ12: 12584.625 | BA12: 0 | BB12: 0 | BC12: 0 | BD12: 0 | BE12: 0 | BF12: 0 | BG12: 0 | BH12: #DIV/0! | BI12: 0 | BJ12: 0 | BK12: 0 | BL12: 0 | BM12: 0 | BN12: 0 | BO12: 0 | BP12: 0 | BQ12: 0 | BR12: 0 | BS12: 0 | BT12: 0 | BU12: #DIV/0! | BV12: 0 | BW12: 0 | BX12: 0 | BY12: 0 | BZ12: 0 | CA12: 0
A13: Subprograma A0402 - Regime geral de segurança social | B13: 46260805 | C13: 73767369 | D13: 71767369 | E13: 56909004 | F13: 56845170 | G13: 56844562 | H13: 0.77059224 | I13: 16922807 | J13: 2000000 | K13: 16858365 | L13: 14858365 | M13: 63834.021 | N13: 607.98706 | O13: 0 | P13: 0 | Q13: 0 | R13: 0 | S13: 0 | T13: 0 | U13: #DIV/0! | V13: 0 | W13: 0 | X13: 0 | Y13: 0 | Z13: 0 | AA13: 0 | AB13: 0 | AC13: 0 | AD13: 0 | AE13: 0 | AF13: 0 | AG13: 0 | AH13: #DIV/0! | AI13: 0 | AJ13: 0 | AK13: 0 | AL13: 0 | AM13: 0 | AN13: 0 | AO13: 46260805 | AP13: 73767369 | AQ13: 71767369 | AR13: 56909004 | AS13: 56845170 | AT13: 56844562 | AU13: 0.77059224 | AV13: 16922807 | AW13: 2000000 | AX13: 16858365 | AY13: 14858365 | AZ13: 63834.021 | BA13: 607.98706 | BB13: 0 | BC13: 0 | BD13: 0 | BE13: 0 | BF13: 0 | BG13: 0 | BH13: #DIV/0! | BI13: 0 | BJ13: 0 | BK13: 0 | BL13: 0 | BM13: 0 | BN13: 0 | BO13: 0 | BP13: 0 | BQ13: 0 | BR13: 0 | BS13: 0 | BT13: 0 | BU13: #DIV/0! | BV13: 0 | BW13: 0 | BX13: 0 | BY13: 0 | BZ13: 0 | CA13: 0
A14: Atividade A040201: Pagamento de prestações sociais de direito - regime geral de segurança social | B14: 4734502 | C14: 7489502 | D14: 7489502 | E14: 4402439.8 | F14: 4338605.8 | G14: 4337997.8 | H14: 0.57921045 | I14: 3151504.2 | J14: 0 | K14: 3087062.2 | L14: 3087062.2 | M14: 63834.021 | N14: 607.98706 | O14: 0 | P14: 0 | Q14: 0 | R14: 0 | S14: 0 | T14: 0 | U14: #DIV/0! | V14: 0 | W14: 0 | X14: 0 | Y14: 0 | Z14: 0 | AA14: 0 | AB14: 0 | AC14: 0 | AD14: 0 | AE14: 0 | AF14: 0 | AG14: 0 | AH14: #DIV/0! | AI14: 0 | AJ14: 0 | AK14: 0 | AL14: 0 | AM14: 0 | AN14: 0 | AO14: 4734502 | AP14: 7489502 | AQ14: 7489502 | AR14: 4402439.8 | AS14: 4338605.8 | AT14: 4337997.8 | AU14: 0.57921045 | AV14: 3151504.2 | AW14: 0 | AX14: 3087062.2 | AY14: 3087062.2 | AZ14: 63834.021 | BA14: 607.98706 | BB14: 0 | BC14: 0 | BD14: 0 | BE14: 0 | BF14: 0 | BG14: 0 | BH14: #DIV/0! | BI14: 0 | BJ14: 0 | BK14: 0 | BL14: 0 | BM14: 0 | BN14: 0 | BO14: 0 | BP14: 0 | BQ14: 0 | BR14: 0 | BS14: 0 | BT14: 0 | BU14: #DIV/0! | BV14: 0 | BW14: 0 | BX14: 0 | BY14: 0 | BZ14: 0 | CA14: 0
A15: Atividade A040202: Contribuições para o Regime de Capitalização | B15: 41526303 | C15: 66277867 | D15: 64277867 | E15: 52506564 | F15: 52506564 | G15: 52506564 | H15: 0.79221868 | I15: 13771303 | J15: 2000000 | K15: 13771303 | L15: 11771303 | M15: 0 | N15: 0 | O15: 0 | P15: 0 | Q15: 0 | R15: 0 | S15: 0 | T15: 0 | U15: #DIV/0! | V15: 0 | W15: 0 | X15: 0 | Y15: 0 | Z15: 0 | AA15: 0 | AB15: 0 | AC15: 0 | AD15: 0 | AE15: 0 | AF15: 0 | AG15: 0 | AH15: #DIV/0! | AI15: 0 | AJ15: 0 | AK15: 0 | AL15: 0 | AM15: 0 | AN15: 0 | AO15: 41526303 | AP15: 66277867 | AQ15: 64277867 | AR15: 52506564 | AS15: 52506564 | AT15: 52506564 | AU15: 0.79221868 | AV15: 13771303 | AW15: 2000000 | AX15: 13771303 | AY15: 11771303 | AZ15: 0 | BA15: 0 | BB15: 0 | BC15: 0 | BD15: 0 | BE15: 0 | BF15: 0 | BG15: 0 | BH15: #DIV/0! | BI15: 0 | BJ15: 0 | BK15: 0 | BL15: 0 | BM15: 0 | BN15: 0 | BO15: 0 | BP15: 0 | BQ15: 0 | BR15: 0 | BS15: 0 | BT15: 0 | BU15: #DIV/0! | BV15: 0 | BW15: 0 | BX15: 0 | BY15: 0 | BZ15: 0 | CA15: 0
A16: Programa A05 - Regime Não Contributivo | B16: 104250000 | C16: 104250000 | D16: 104250000 | E16: 70606713 | F16: 70294131 | G16: 70263771 | H16: 0.67399301 | I16: 33986229 | J16: 0 | K16: 33643287 | L16: 33643287 | M16: 312582.4 | N16: 30360 | O16: 0 | P16: 0 | Q16: 0 | R16: 0 | S16: 0 | T16: 0 | U16: #DIV/0! | V16: 0 | W16: 0 | X16: 0 | Y16: 0 | Z16: 0 | AA16: 0 | AB16: 0 | AC16: 0 | AD16: 0 | AE16: 0 | AF16: 0 | AG16: 0 | AH16: #DIV/0! | AI16: 0 | AJ16: 0 | AK16: 0 | AL16: 0 | AM16: 0 | AN16: 0 | AO16: 104250000 | AP16: 104250000 | AQ16: 104250000 | AR16: 70606713 | AS16: 70294131 | AT16: 70263771 | AU16: 0.67399301 | AV16: 33986229 | AW16: 0 | AX16: 33643287 | AY16: 33643287 | AZ16: 312582.4 | BA16: 30360 | BB16: 0 | BC16: 0 | BD16: 0 | BE16: 0 | BF16: 0 | BG16: 0 | BH16: #DIV/0! | BI16: 0 | BJ16: 0 | BK16: 0 | BL16: 0 | BM16: 0 | BN16: 0 | BO16: 0 | BP16: 0 | BQ16: 0 | BR16: 0 | BS16: 0 | BT16: 0 | BU16: #DIV/0! | BV16: 0 | BW16: 0 | BX16: 0 | BY16: 0 | BZ16: 0 | CA16: 0
A17: Subprograma A0501 - Proteção Social de Cidadania | B17: 104250000 | C17: 104250000 | D17: 104250000 | E17: 70606713 | F17: 70294131 | G17: 70263771 | H17: 0.67399301 | I17: 33986229 | J17: 0 | K17: 33643287 | L17: 33643287 | M17: 312582.4 | N17: 30360 | O17: 0 | P17: 0 | Q17: 0 | R17: 0 | S17: 0 | T17: 0 | U17: #DIV/0! | V17: 0 | W17: 0 | X17: 0 | Y17: 0 | Z17: 0 | AA17: 0 | AB17: 0 | AC17: 0 | AD17: 0 | AE17: 0 | AF17: 0 | AG17: 0 | AH17: #DIV/0! | AI17: 0 | AJ17: 0 | AK17: 0 | AL17: 0 | AM17: 0 | AN17: 0 | AO17: 104250000 | AP17: 104250000 | AQ17: 104250000 | AR17: 70606713 | AS17: 70294131 | AT17: 70263771 | AU17: 0.67399301 | AV17: 33986229 | AW17: 0 | AX17: 33643287 | AY17: 33643287 | AZ17: 312582.4 | BA17: 30360 | BB17: 0 | BC17: 0 | BD17: 0 | BE17: 0 | BF17: 0 | BG17: 0 | BH17: #DIV/0! | BI17: 0 | BJ17: 0 | BK17: 0 | BL17: 0 | BM17: 0 | BN17: 0 | BO17: 0 | BP17: 0 | BQ17: 0 | BR17: 0 | BS17: 0 | BT17: 0 | BU17: #DIV/0! | BV17: 0 | BW17: 0 | BX17: 0 | BY17: 0 | BZ17: 0 | CA17: 0
A18: Atividade A050101: Pagamento de prestações sociais não contributivas | B18: 104250000 | C18: 104250000 | D18: 104250000 | E18: 70606713 | F18: 70294131 | G18: 70263771 | H18: 0.67399301 | I18: 33986229 | J18: 0 | K18: 33643287 | L18: 33643287 | M18: 312582.4 | N18: 30360 | O18: 0 | P18: 0 | Q18: 0 | R18: 0 | S18: 0 | T18: 0 | U18: #DIV/0! | V18: 0 | W18: 0 | X18: 0 | Y18: 0 | Z18: 0 | AA18: 0 | AB18: 0 | AC18: 0 | AD18: 0 | AE18: 0 | AF18: 0 | AG18: 0 | AH18: #DIV/0! | AI18: 0 | AJ18: 0 | AK18: 0 | AL18: 0 | AM18: 0 | AN18: 0 | AO18: 104250000 | AP18: 104250000 | AQ18: 104250000 | AR18: 70606713 | AS18: 70294131 | AT18: 70263771 | AU18: 0.67399301 | AV18: 33986229 | AW18: 0 | AX18: 33643287 | AY18: 33643287 | AZ18: 312582.4 | BA18: 30360 | BB18: 0 | BC18: 0 | BD18: 0 | BE18: 0 | BF18: 0 | BG18: 0 | BH18: #DIV/0! | BI18: 0 | BJ18: 0 | BK18: 0 | BL18: 0 | BM18: 0 | BN18: 0 | BO18: 0 | BP18: 0 | BQ18: 0 | BR18: 0 | BS18: 0 | BT18: 0 | BU18: #DIV/0! | BV18: 0 | BW18: 0 | BX18: 0 | BY18: 0 | BZ18: 0 | CA18: 0
A19: Programa A06 - Administração do INSS | B19: 3500000 | C19: 3364647.2 | D19: 3314647.2 | E19: 2531217.5 | F19: 1953751.5 | G19: 1953551.4 | H19: 0.58061108 | I19: 1411095.8 | J19: 50000 | K19: 833429.66 | L19: 783429.66 | M19: 577466.07 | N19: 200.03 | O19: 2017198 | P19: 2017198 | Q19: 2017198 | R19: 1800553.4 | S19: 1354471.6 | T19: 1354471.6 | U19: 0.67146192 | V19: 662726.36 | W19: 0 | X19: 216644.62 | Y19: 216644.62 | Z19: 446081.74 | AA19: 0 | AB19: 1148995 | AC19: 1148995 | AD19: 1098995 | AE19: 618570.08 | AF19: 487185.75 | AG19: 486985.72 | AH19: 0.42383624 | AI19: 662009.28 | AJ19: 50000 | AK19: 530424.92 | AL19: 480424.92 | AM19: 131384.33 | AN19: 200.03 | AO19: 333807 | AP19: 198454.21 | AQ19: 198454.21 | AR19: 112094.09 | AS19: 112094.09 | AT19: 112094.09 | AU19: 0.56483604 | AV19: 86360.12 | AW19: 0 | AX19: 86360.12 | AY19: 86360.12 | AZ19: 0 | BA19: 0 | BB19: 0 | BC19: 0 | BD19: 0 | BE19: 0 | BF19: 0 | BG19: 0 | BH19: #DIV/0! | BI19: 0 | BJ19: 0 | BK19: 0 | BL19: 0 | BM19: 0 | BN19: 0 | BO19: 0 | BP19: 0 | BQ19: 0 | BR19: 0 | BS19: 0 | BT19: 0 | BU19: #DIV/0! | BV19: 0 | BW19: 0 | BX19: 0 | BY19: 0 | BZ19: 0 | CA19: 0
A20: Subprograma A0601 - Coordenação, gestão e funcionamento do INSS | B20: 3500000 | C20: 3364647.2 | D20: 3314647.2 | E20: 2531217.5 | F20: 1953751.5 | G20: 1953551.4 | H20: 0.58061108 | I20: 1411095.8 | J20: 50000 | K20: 833429.66 | L20: 783429.66 | M20: 577466.07 | N20: 200.03 | O20: 2017198 | P20: 2017198 | Q20: 2017198 | R20: 1800553.4 | S20: 1354471.6 | T20: 1354471.6 | U20: 0.67146192 | V20: 662726.36 | W20: 0 | X20: 216644.62 | Y20: 216644.62 | Z20: 446081.74 | AA20: 0 | AB20: 1148995 | AC20: 1148995 | AD20: 1098995 | AE20: 618570.08 | AF20: 487185.75 | AG20: 486985.72 | AH20: 0.42383624 | AI20: 662009.28 | AJ20: 50000 | AK20: 530424.92 | AL20: 480424.92 | AM20: 131384.33 | AN20: 200.03 | AO20: 333807 | AP20: 198454.21 | AQ20: 198454.21 | AR20: 112094.09 | AS20: 112094.09 | AT20: 112094.09 | AU20: 0.56483604 | AV20: 86360.12 | AW20: 0 | AX20: 86360.12 | AY20: 86360.12 | AZ20: 0 | BA20: 0 | BB20: 0 | BC20: 0 | BD20: 0 | BE20: 0 | BF20: 0 | BG20: 0 | BH20: #DIV/0! | BI20: 0 | BJ20: 0 | BK20: 0 | BL20: 0 | BM20: 0 | BN20: 0 | BO20: 0 | BP20: 0 | BQ20: 0 | BR20: 0 | BS20: 0 | BT20: 0 | BU20: #DIV/0! | BV20: 0 | BW20: 0 | BX20: 0 | BY20: 0 | BZ20: 0 | CA20: 0
A21: Atividade A060101: Coordenação, gestão e funcionamento de todos os serviços (operacionais e técnicos) do INSS | B21: 3306538 | C21: 3155932.2 | D21: 3105932.2 | E21: 2447380.5 | F21: 1874177.5 | G21: 1874137.4 | H21: 0.59384591 | I21: 1281794.8 | J21: 50000 | K21: 708551.66 | L21: 658551.66 | M21: 573203.07 | N21: 40.03 | O21: 2017198 | P21: 2017198 | Q21: 2017198 | R21: 1800553.4 | S21: 1354471.6 | T21: 1354471.6 | U21: 0.67146192 | V21: 662726.36 | W21: 0 | X21: 216644.62 | Y21: 216644.62 | Z21: 446081.74 | AA21: 0 | AB21: 955533 | AC21: 940280 | AD21: 890280 | AE21: 534733.08 | AF21: 407611.75 | AG21: 407571.72 | AH21: 0.43345782 | AI21: 532708.28 | AJ21: 50000 | AK21: 405546.92 | AL21: 355546.92 | AM21: 127121.33 | AN21: 40.03 | AO21: 333807 | AP21: 198454.21 | AQ21: 198454.21 | AR21: 112094.09 | AS21: 112094.09 | AT21: 112094.09 | AU21: 0.56483604 | AV21: 86360.12 | AW21: 0 | AX21: 86360.12 | AY21: 86360.12 | AZ21: 0 | BA21: 0 | BB21: 0 | BC21: 0 | BD21: 0 | BE21: 0 | BF21: 0 | BG21: 0 | BH21: #DIV/0! | BI21: 0 | BJ21: 0 | BK21: 0 | BL21: 0 | BM21: 0 | BN21: 0 | BO21: 0 | BP21: 0 | BQ21: 0 | BR21: 0 | BS21: 0 | BT21: 0 | BU21: #DIV/0! | BV21: 0 | BW21: 0 | BX21: 0 | BY21: 0 | BZ21: 0 | CA21: 0
A22: Atividade A060102: Formação em exercício dos Recursos Humanos do INSS | B22: 113335 | C22: 105588 | D22: 105588 | E22: 1718 | F22: 1718 | G22: 1718 | H22: 0.016270788 | I22: 103870 | J22: 0 | K22: 103870 | L22: 103870 | M22: 0 | N22: 0 | O22: 0 | P22: 0 | Q22: 0 | R22: 0 | S22: 0 | T22: 0 | U22: #DIV/0! | V22: 0 | W22: 0 | X22: 0 | Y22: 0 | Z22: 0 | AA22: 0 | AB22: 113335 | AC22: 105588 | AD22: 105588 | AE22: 1718 | AF22: 1718 | AG22: 1718 | AH22: 0.016270788 | AI22: 103870 | AJ22: 0 | AK22: 103870 | AL22: 103870 | AM22: 0 | AN22: 0 | AO22: 0 | AP22: 0 | AQ22: 0 | AR22: 0 | AS22: 0 | AT22: 0 | AU22: #DIV/0! | AV22: 0 | AW22: 0 | AX22: 0 | AY22: 0 | AZ22: 0 | BA22: 0 | BB22: 0 | BC22: 0 | BD22: 0 | BE22: 0 | BF22: 0 | BG22: 0 | BH22: #DIV/0! | BI22: 0 | BJ22: 0 | BK22: 0 | BL22: 0 | BM22: 0 | BN22: 0 | BO22: 0 | BP22: 0 | BQ22: 0 | BR22: 0 | BS22: 0 | BT22: 0 | BU22: #DIV/0! | BV22: 0 | BW22: 0 | BX22: 0 | BY22: 0 | BZ22: 0 | CA22: 0
A23: Atividade A060103: Elaboração de estudos e propostas técnicas visando a melhoria, alargamento, eficácia e sustentabilidade do sistema de segurança social | B23: 0 | C23: 0 | D23: 0 | E23: 0 | F23: 0 | G23: 0 | H23: #DIV/0! | I23: 0 | J23: 0 | K23: 0 | L23: 0 | M23: 0 | N23: 0 | O23: 0 | P23: 0 | Q23: 0 | R23: 0 | S23: 0 | T23: 0 | U23: #DIV/0! | V23: 0 | W23: 0 | X23: 0 | Y23: 0 | Z23: 0 | AA23: 0 | AB23: 0 | AC23: 0 | AD23: 0 | AE23: 0 | AF23: 0 | AG23: 0 | AH23: #DIV/0! | AI23: 0 | AJ23: 0 | AK23: 0 | AL23: 0 | AM23: 0 | AN23: 0 | AO23: 0 | AP23: 0 | AQ23: 0 | AR23: 0 | AS23: 0 | AT23: 0 | AU23: #DIV/0! | AV23: 0 | AW23: 0 | AX23: 0 | AY23: 0 | AZ23: 0 | BA23: 0 | BB23: 0 | BC23: 0 | BD23: 0 | BE23: 0 | BF23: 0 | BG23: 0 | BH23: #DIV/0! | BI23: 0 | BJ23: 0 | BK23: 0 | BL23: 0 | BM23: 0 | BN23: 0 | BO23: 0 | BP23: 0 | BQ23: 0 | BR23: 0 | BS23: 0 | BT23: 0 | BU23: #DIV/0! | BV23: 0 | BW23: 0 | BX23: 0 | BY23: 0 | BZ23: 0 | CA23: 0
A24: Atividade A060104: Extensão da cobertura do sistema de segurança social | B24: 80127 | C24: 103127 | D24: 103127 | E24: 82119 | F24: 77856 | G24: 77696 | H24: 0.75340115 | I24: 25431 | J24: 0 | K24: 21008 | L24: 21008 | M24: 4263 | N24: 160 | O24: 0 | P24: 0 | Q24: 0 | R24: 0 | S24: 0 | T24: 0 | U24: #DIV/0! | V24: 0 | W24: 0 | X24: 0 | Y24: 0 | Z24: 0 | AA24: 0 | AB24: 80127 | AC24: 103127 | AD24: 103127 | AE24: 82119 | AF24: 77856 | AG24: 77696 | AH24: 0.75340115 | AI24: 25431 | AJ24: 0 | AK24: 21008 | AL24: 21008 | AM24: 4263 | AN24: 160 | AO24: 0 | AP24: 0 | AQ24: 0 | AR24: 0 | AS24: 0 | AT24: 0 | AU24: #DIV/0! | AV24: 0 | AW24: 0 | AX24: 0 | AY24: 0 | AZ24: 0 | BA24: 0 | BB24: 0 | BC24: 0 | BD24: 0 | BE24: 0 | BF24: 0 | BG24: 0 | BH24: #DIV/0! | BI24: 0 | BJ24: 0 | BK24: 0 | BL24: 0 | BM24: 0 | BN24: 0 | BO24: 0 | BP24: 0 | BQ24: 0 | BR24: 0 | BS24: 0 | BT24: 0 | BU24: #DIV/0! | BV24: 0 | BW24: 0 | BX24: 0 | BY24: 0 | BZ24: 0 | CA24: 0
A25: Subprograma A0602 - Investimento Estratégico do INSS | B25: 0 | C25: 0 | D25: 0 | E25: 0 | F25: 0 | G25: 0 | H25: #DIV/0! | I25: 0 | J25: 0 | K25: 0 | L25: 0 | M25: 0 | N25: 0 | O25: 0 | P25: 0 | Q25: 0 | R25: 0 | S25: 0 | T25: 0 | U25: #DIV/0! | V25: 0 | W25: 0 | X25: 0 | Y25: 0 | Z25: 0 | AA25: 0 | AB25: 0 | AC25: 0 | AD25: 0 | AE25: 0 | AF25: 0 | AG25: 0 | AH25: #DIV/0! | AI25: 0 | AJ25: 0 | AK25: 0 | AL25: 0 | AM25: 0 | AN25: 0 | AO25: 0 | AP25: 0 | AQ25: 0 | AR25: 0 | AS25: 0 | AT25: 0 | AU25: #DIV/0! | AV25: 0 | AW25: 0 | AX25: 0 | AY25: 0 | AZ25: 0 | BA25: 0 | BB25: 0 | BC25: 0 | BD25: 0 | BE25: 0 | BF25: 0 | BG25: 0 | BH25: #DIV/0! | BI25: 0 | BJ25: 0 | BK25: 0 | BL25: 0 | BM25: 0 | BN25: 0 | BO25: 0 | BP25: 0 | BQ25: 0 | BR25: 0 | BS25: 0 | BT25: 0 | BU25: #DIV/0! | BV25: 0 | BW25: 0 | BX25: 0 | BY25: 0 | BZ25: 0 | CA25: 0
A26: Atividade A060201: Construção do Sistema de Informação da Segurança Social | B26: 0 | C26: 0 | D26: 0 | E26: 0 | F26: 0 | G26: 0 | H26: #DIV/0! | I26: 0 | J26: 0 | K26: 0 | L26: 0 | M26: 0 | N26: 0 | O26: 0 | P26: 0 | Q26: 0 | R26: 0 | S26: 0 | T26: 0 | U26: #DIV/0! | V26: 0 | W26: 0 | X26: 0 | Y26: 0 | Z26: 0 | AA26: 0 | AB26: 0 | AC26: 0 | AD26: 0 | AE26: 0 | AF26: 0 | AG26: 0 | AH26: #DIV/0! | AI26: 0 | AJ26: 0 | AK26: 0 | AL26: 0 | AM26: 0 | AN26: 0 | AO26: 0 | AP26: 0 | AQ26: 0 | AR26: 0 | AS26: 0 | AT26: 0 | AU26: #DIV/0! | AV26: 0 | AW26: 0 | AX26: 0 | AY26: 0 | AZ26: 0 | BA26: 0 | BB26: 0 | BC26: 0 | BD26: 0 | BE26: 0 | BF26: 0 | BG26: 0 | BH26: #DIV/0! | BI26: 0 | BJ26: 0 | BK26: 0 | BL26: 0 | BM26: 0 | BN26: 0 | BO26: 0 | BP26: 0 | BQ26: 0 | BR26: 0 | BS26: 0 | BT26: 0 | BU26: #DIV/0! | BV26: 0 | BW26: 0 | BX26: 0 | BY26: 0 | BZ26: 0 | CA26: 0
A27: Atividade A060202: Apetrechamento das instalações do INSS | B27: 0 | C27: 0 | D27: 0 | E27: 0 | F27: 0 | G27: 0 | H27: #DIV/0! | I27: 0 | J27: 0 | K27: 0 | L27: 0 | M27: 0 | N27: 0 | O27: 0 | P27: 0 | Q27: 0 | R27: 0 | S27: 0 | T27: 0 | U27: #DIV/0! | V27: 0 | W27: 0 | X27: 0 | Y27: 0 | Z27: 0 | AA27: 0 | AB27: 0 | AC27: 0 | AD27: 0 | AE27: 0 | AF27: 0 | AG27: 0 | AH27: #DIV/0! | AI27: 0 | AJ27: 0 | AK27: 0 | AL27: 0 | AM27: 0 | AN27: 0 | AO27: 0 | AP27: 0 | AQ27: 0 | AR27: 0 | AS27: 0 | AT27: 0 | AU27: #DIV/0! | AV27: 0 | AW27: 0 | AX27: 0 | AY27: 0 | AZ27: 0 | BA27: 0 | BB27: 0 | BC27: 0 | BD27: 0 | BE27: 0 | BF27: 0 | BG27: 0 | BH27: #DIV/0! | BI27: 0 | BJ27: 0 | BK27: 0 | BL27: 0 | BM27: 0 | BN27: 0 | BO27: 0 | BP27: 0 | BQ27: 0 | BR27: 0 | BS27: 0 | BT27: 0 | BU27: #DIV/0! | BV27: 0 | BW27: 0 | BX27: 0 | BY27: 0 | BZ27: 0 | CA27: 0
A28: Atividade A060203: Construção do Novo Edificio da Seguranca Social | B28: 0 | C28: 0 | D28: 0 | E28: 0 | F28: 0 | G28: 0 | H28: #DIV/0! | I28: 0 | J28: 0 | K28: 0 | L28: 0 | M28: 0 | N28: 0 | O28: 0 | P28: 0 | Q28: 0 | R28: 0 | S28: 0 | T28: 0 | U28: #DIV/0! | V28: 0 | W28: 0 | X28: 0 | Y28: 0 | Z28: 0 | AA28: 0 | AB28: 0 | AC28: 0 | AD28: 0 | AE28: 0 | AF28: 0 | AG28: 0 | AH28: #DIV/0! | AI28: 0 | AJ28: 0 | AK28: 0 | AL28: 0 | AM28: 0 | AN28: 0 | AO28: 0 | AP28: 0 | AQ28: 0 | AR28: 0 | AS28: 0 | AT28: 0 | AU28: #DIV/0! | AV28: 0 | AW28: 0 | AX28: 0 | AY28: 0 | AZ28: 0 | BA28: 0 | BB28: 0 | BC28: 0 | BD28: 0 | BE28: 0 | BF28: 0 | BG28: 0 | BH28: #DIV/0! | BI28: 0 | BJ28: 0 | BK28: 0 | BL28: 0 | BM28: 0 | BN28: 0 | BO28: 0 | BP28: 0 | BQ28: 0 | BR28: 0 | BS28: 0 | BT28: 0 | BU28: #DIV/0! | BV28: 0 | BW28: 0 | BX28: 0 | BY28: 0 | BZ28: 0 | CA28: 0
A29: TOTAL INSS | B29: 170399205 | C29: 1.9777042e+08 | D29: 1.9572042e+08 | E29: 1.3818365e+08 | F29: 1.3721718e+08 | G29: 1.3718601e+08 | H29: 0.69366296 | I29: 60584403 | J29: 2050000 | K29: 59586768 | L29: 57536768 | M29: 966467.12 | N29: 31168.017 | O29: 2017198 | P29: 2017198 | Q29: 2017198 | R29: 1800553.4 | S29: 1354471.6 | T29: 1354471.6 | U29: 0.67146192 | V29: 662726.36 | W29: 0 | X29: 216644.62 | Y29: 216644.62 | Z29: 446081.74 | AA29: 0 | AB29: 1148995 | AC29: 1148995 | AD29: 1098995 | AE29: 618570.08 | AF29: 487185.75 | AG29: 486985.72 | AH29: 0.42383624 | AI29: 662009.28 | AJ29: 50000 | AK29: 530424.92 | AL29: 480424.92 | AM29: 131384.33 | AN29: 200.03 | AO29: 167233012 | AP29: 1.9460422e+08 | AQ29: 1.9260422e+08 | AR29: 1.3576452e+08 | AS29: 1.3537552e+08 | AT29: 1.3534456e+08 | AU29: 0.69548622 | AV29: 59259668 | AW29: 2000000 | AX29: 58839699 | AY29: 56839699 | AZ29: 389001.05 | BA29: 30967.987 | BB29: 0 | BC29: 0 | BD29: 0 | BE29: 0 | BF29: 0 | BG29: 0 | BH29: #DIV/0! | BI29: 0 | BJ29: 0 | BK29: 0 | BL29: 0 | BM29: 0 | BN29: 0 | BO29: 0 | BP29: 0 | BQ29: 0 | BR29: 0 | BS29: 0 | BT29: 0 | BU29: #DIV/0! | BV29: 0 | BW29: 0 | BX29: 0 | BY29: 0 | BZ29: 0 | CA29: 0
A30: TOTAL INSS CONSOLIDADO | B30: 170065398 | C30: 1.9757196e+08 | D30: 1.9552196e+08 | E30: 1.3807155e+08 | F30: 1.3710509e+08 | G30: 1.3707392e+08 | H30: 0.69379237 | I30: 43661596 | J30: 50000 | K30: 42728403 | L30: 42678403 | M30: 902633.09 | N30: 30560.03 | O30: 2017198 | P30: 2017198 | Q30: 2017198 | R30: 1800553.4 | S30: 1354471.6 | T30: 1354471.6 | U30: 0.67146192 | V30: 662726.36 | W30: 0 | X30: 216644.62 | Y30: 216644.62 | Z30: 446081.74 | AA30: 0 | AB30: 1148995 | AC30: 1148995 | AD30: 1098995 | AE30: 618570.08 | AF30: 487185.75 | AG30: 486985.72 | AH30: 0.42383624 | AI30: 662009.28 | AJ30: 50000 | AK30: 530424.92 | AL30: 480424.92 | AM30: 131384.33 | AN30: 200.03 | AO30: 166899205 | AP30: 1.9440577e+08 | AQ30: 1.9240577e+08 | AR30: 1.3565243e+08 | AS30: 1.3526343e+08 | AT30: 1.3523246e+08 | AU30: 0.69561959 | AV30: 42336861 | AW30: 0 | AX30: 41981334 | AY30: 41981334 | AZ30: 325167.02 | BA30: 30360 | BB30: 0 | BC30: 0 | BD30: 0 | BE30: 0 | BF30: 0 | BG30: 0 | BH30: #DIV/0! | BI30: 0 | BJ30: 0 | BK30: 0 | BL30: 0 | BM30: 0 | BN30: 0 | BO30: 0 | BP30: 0 | BQ30: 0 | BR30: 0 | BS30: 0 | BT30: 0 | BU30: #DIV/0! | BV30: 0 | BW30: 0 | BX30: 0 | BY30: 0 | BZ30: 0 | CA30: 0
A36: EXECUÇÃO ORÇAMENTAL - ORÇAMENTO DA SEGURANÇA SOCIAL
A37: 107 - FUNDO DE RESERVA DA SEGURANÇA SOCIAL
A38: SETEMBRO 2026
A40: Programa/Subprograma/Atividade | B40: TOTAL | O40: SALÁRIOS E VENCIMENTOS | AB40: BENS E SERVIÇOS | AO40: TRANSFERÊNCIAS PÚBLICAS | BB40: CAPITAL MENOR | BO40: CAPITAL DE DESENVOLVIMENTO
B41: OSS inicial | C41: OSS corrigido | D41: Cabimentos | E41: Compromissos | F41: Obrigações | G41: Despesa Executada | H41: Taxa Execução (%) | I41: Saldo Execução | J41: Saldo disponível (Execução+Cabimentos) | K41: Saldo não comprometido | L41: Valor Cabimentado e não comprometido | M41: Valor Comprometido e não liquidado | N41: Valor Liquidado e não pago (DIVIDA) | O41: OSS inicial | P41: OSS corrigido | Q41: Cabimentos | R41: Compromissos | S41: Obrigações | T41: Despesa Executada | U41: Taxa Execução (%) | V41: Saldo Execução | W41: Saldo disponível (Execução+Cabimentos) | X41: Saldo não comprometido | Y41: Valor Cabimentado e não comprometido | Z41: Valor Comprometido e não liquidado | AA41: Valor Liquidado e não pago (DIVIDA) | AB41: OSS inicial | AC41: OSS corrigido | AD41: Cabimentos | AE41: Compromissos | AF41: Obrigações | AG41: Despesa Executada | AH41: Taxa Execução (%) | AI41: Saldo Execução | AJ41: Saldo disponível (Execução+Cabimentos) | AK41: Saldo não comprometido | AL41: Valor Cabimentado e não comprometido | AM41: Valor Comprometido e não liquidado | AN41: Valor Liquidado e não pago (DIVIDA) | AO41: OSS inicial | AP41: OSS corrigido | AQ41: Cabimentos | AR41: Compromissos | AS41: Obrigações | AT41: Despesa Executada | AU41: Taxa Execução (%) | AV41: Saldo Execução | AW41: Saldo disponível (Execução+Cabimentos) | AX41: Saldo não comprometido | AY41: Valor Cabimentado e não comprometido | AZ41: Valor Comprometido e não liquidado | BA41: Valor Liquidado e não pago (DIVIDA) | BB41: OSS inicial | BC41: OSS corrigido | BD41: Cabimentos | BE41: Compromissos | BF41: Obrigações | BG41: Despesa Executada | BH41: Taxa Execução (%) | BI41: Saldo Execução | BJ41: Saldo disponível (Execução+Cabimentos) | BK41: Saldo não comprometido | BL41: Valor Cabimentado e não comprometido | BM41: Valor Comprometido e não liquidado | BN41: Valor Liquidado e não pago (DIVIDA) | BO41: OSS inicial | BP41: OSS corrigido | BQ41: Cabimentos | BR41: Compromissos | BS41: Obrigações | BT41: Despesa Executada | BU41: Taxa Execução (%) | BV41: Saldo Execução | BW41: Saldo disponível (Execução+Cabimentos) | BX41: Saldo não comprometido | BY41: Valor Cabimentado e não comprometido | BZ41: Valor Comprometido e não liquidado | CA41: Valor Liquidado e não pago (DIVIDA)
B42: (1) | C42: (2) | D42: (3) | E42: (4) | F42: (5) | G42: (6) | H42: (7) | I42: (8) = (2) - (6) | J42: (9) = (2) - (3) | K42: (10) = (2) - (4) | L42: (11) = (3) - (4) | M42: (12) = (4) - (5) | N42: (13) = (5) - (6) | O42: (1) | P42: (2) | Q42: (3) | R42: (4) | S42: (5) | T42: (6) | U42: (7) | V42: (8) = (2) - (6) | W42: (9) = (2) - (3) | X42: (10) = (2) - (4) | Y42: (11) = (3) - (4) | Z42: (12) = (4) - (5) | AA42: (13) = (5) - (6) | AB42: (1) | AC42: (2) | AD42: (3) | AE42: (4) | AF42: (5) | AG42: (6) | AH42: (7) | AI42: (8) = (2) - (6) | AJ42: (9) = (2) - (3) | AK42: (10) = (2) - (4) | AL42: (11) = (3) - (4) | AM42: (12) = (4) - (5) | AN42: (13) = (5) - (6) | AO42: (1) | AP42: (2) | AQ42: (3) | AR42: (4) | AS42: (5) | AT42: (6) | AU42: (7) | AV42: (8) = (2) - (6) | AW42: (9) = (2) - (3) | AX42: (10) = (2) - (4) | AY42: (11) = (3) - (4) | AZ42: (12) = (4) - (5) | BA42: (13) = (5) - (6) | BB42: (1) | BC42: (2) | BD42: (3) | BE42: (4) | BF42: (5) | BG42: (6) | BH42: (7) | BI42: (8) = (2) - (6) | BJ42: (9) = (2) - (3) | BK42: (10) = (2) - (4) | BL42: (11) = (3) - (4) | BM42: (12) = (4) - (5) | BN42: (13) = (5) - (6) | BO42: (1) | BP42: (2) | BQ42: (3) | BR42: (4) | BS42: (5) | BT42: (6) | BU42: (7) | BV42: (8) = (2) - (6) | BW42: (9) = (2) - (3) | BX42: (10) = (2) - (4) | BY42: (11) = (3) - (4) | BZ42: (12) = (4) - (5) | CA42: (13) = (5) - (6)
A43: Programa A07 - Administração do FRSS | B43: 333807 | C43: 333807 | D43: 291086.4 | E43: 103398.51 | F43: 90828.33 | G43: 90828.33 | H43: 0.27209834 | I43: 242978.67 | J43: 42720.6 | K43: 230408.49 | L43: 187687.89 | M43: 12570.18 | N43: 0 | O43: 0 | P43: 0 | Q43: 0 | R43: 0 | S43: 0 | T43: 0 | U43: #DIV/0! | V43: 0 | W43: 0 | X43: 0 | Y43: 0 | Z43: 0 | AA43: 0 | AB43: 333807 | AC43: 333007 | AD43: 290586.4 | AE43: 103398.51 | AF43: 90828.33 | AG43: 90828.33 | AH43: 0.27275201 | AI43: 242178.67 | AJ43: 42420.6 | AK43: 229608.49 | AL43: 187187.89 | AM43: 12570.18 | AN43: 0 | AO43: 0 | AP43: 0 | AQ43: 0 | AR43: 0 | AS43: 0 | AT43: 0 | AU43: #DIV/0! | AV43: 0 | AW43: 0 | AX43: 0 | AY43: 0 | AZ43: 0 | BA43: 0 | BB43: 0 | BC43: 800 | BD43: 500 | BE43: 0 | BF43: 0 | BG43: 0 | BH43: 0 | BI43: 800 | BJ43: 300 | BK43: 800 | BL43: 500 | BM43: 0 | BN43: 0 | BO43: 0 | BP43: 0 | BQ43: 0 | BR43: 0 | BS43: 0 | BT43: 0 | BU43: #DIV/0! | BV43: 0 | BW43: 0 | BX43: 0 | BY43: 0 | BZ43: 0 | CA43: 0
A44: Subprograma A0701 - Coordenação, gestão e funcionamento do FRSS | B44: 333807 | C44: 333807 | D44: 291086.4 | E44: 103398.51 | F44: 90828.33 | G44: 90828.33 | H44: 0.27209834 | I44: 242978.67 | J44: 42720.6 | K44: 230408.49 | L44: 187687.89 | M44: 12570.18 | N44: 0 | O44: 0 | P44: 0 | Q44: 0 | R44: 0 | S44: 0 | T44: 0 | U44: #DIV/0! | V44: 0 | W44: 0 | X44: 0 | Y44: 0 | Z44: 0 | AA44: 0 | AB44: 333807 | AC44: 333007 | AD44: 290586.4 | AE44: 103398.51 | AF44: 90828.33 | AG44: 90828.33 | AH44: 0.27275201 | AI44: 242178.67 | AJ44: 42420.6 | AK44: 229608.49 | AL44: 187187.89 | AM44: 12570.18 | AN44: 0 | AO44: 0 | AP44: 0 | AQ44: 0 | AR44: 0 | AS44: 0 | AT44: 0 | AU44: #DIV/0! | AV44: 0 | AW44: 0 | AX44: 0 | AY44: 0 | AZ44: 0 | BA44: 0 | BB44: 0 | BC44: 800 | BD44: 500 | BE44: 0 | BF44: 0 | BG44: 0 | BH44: 0 | BI44: 800 | BJ44: 300 | BK44: 800 | BL44: 500 | BM44: 0 | BN44: 0 | BO44: 0 | BP44: 0 | BQ44: 0 | BR44: 0 | BS44: 0 | BT44: 0 | BU44: #DIV/0! | BV44: 0 | BW44: 0 | BX44: 0 | BY44: 0 | BZ44: 0 | CA44: 0
A45: Atividade A070101: Funcionamento de todos os serviços e unidades orgânicas do Instituto FRSS | B45: 188177 | C45: 188177 | D45: 159807 | E45: 103398.51 | F45: 90828.33 | G45: 90828.33 | H45: 0.48267498 | I45: 97348.67 | J45: 28370 | K45: 84778.49 | L45: 56408.49 | M45: 12570.18 | N45: 0 | O45: 0 | P45: 0 | Q45: 0 | R45: 0 | S45: 0 | T45: 0 | U45: #DIV/0! | V45: 0 | W45: 0 | X45: 0 | Y45: 0 | Z45: 0 | AA45: 0 | AB45: 188177 | AC45: 187377 | AD45: 159307 | AE45: 103398.51 | AF45: 90828.33 | AG45: 90828.33 | AH45: 0.48473575 | AI45: 96548.67 | AJ45: 28070 | AK45: 83978.49 | AL45: 55908.49 | AM45: 12570.18 | AN45: 0 | AO45: 0 | AP45: 0 | AQ45: 0 | AR45: 0 | AS45: 0 | AT45: 0 | AU45: #DIV/0! | AV45: 0 | AW45: 0 | AX45: 0 | AY45: 0 | AZ45: 0 | BA45: 0 | BB45: 0 | BC45: 800 | BD45: 500 | BE45: 0 | BF45: 0 | BG45: 0 | BH45: 0 | BI45: 800 | BJ45: 300 | BK45: 800 | BL45: 500 | BM45: 0 | BN45: 0 | BO45: 0 | BP45: 0 | BQ45: 0 | BR45: 0 | BS45: 0 | BT45: 0 | BU45: #DIV/0! | BV45: 0 | BW45: 0 | BX45: 0 | BY45: 0 | BZ45: 0 | CA45: 0
A46: Atividade A070102: Capacitação técnica e especializada dos Recursos Humanos do FRSS | B46: 145630 | C46: 145630 | D46: 131279.4 | E46: 0 | F46: 0 | G46: 0 | H46: 0 | I46: 145630 | J46: 14350.6 | K46: 145630 | L46: 131279.4 | M46: 0 | N46: 0 | O46: 0 | P46: 0 | Q46: 0 | R46: 0 | S46: 0 | T46: 0 | U46: #DIV/0! | V46: 0 | W46: 0 | X46: 0 | Y46: 0 | Z46: 0 | AA46: 0 | AB46: 145630 | AC46: 145630 | AD46: 131279.4 | AE46: 0 | AF46: 0 | AG46: 0 | AH46: 0 | AI46: 145630 | AJ46: 14350.6 | AK46: 145630 | AL46: 131279.4 | AM46: 0 | AN46: 0 | AO46: 0 | AP46: 0 | AQ46: 0 | AR46: 0 | AS46: 0 | AT46: 0 | AU46: #DIV/0! | AV46: 0 | AW46: 0 | AX46: 0 | AY46: 0 | AZ46: 0 | BA46: 0 | BB46: 0 | BC46: 0 | BD46: 0 | BE46: 0 | BF46: 0 | BG46: 0 | BH46: #DIV/0! | BI46: 0 | BJ46: 0 | BK46: 0 | BL46: 0 | BM46: 0 | BN46: 0 | BO46: 0 | BP46: 0 | BQ46: 0 | BR46: 0 | BS46: 0 | BT46: 0 | BU46: #DIV/0! | BV46: 0 | BW46: 0 | BX46: 0 | BY46: 0 | BZ46: 0 | CA46: 0
A47: Subprograma A0702 - Investimento Estratégico do FRSS | B47: 0 | C47: 0 | D47: 0 | E47: 0 | F47: 0 | G47: 0 | H47: #DIV/0! | I47: 0 | J47: 0 | K47: 0 | L47: 0 | M47: 0 | N47: 0 | O47: 0 | P47: 0 | Q47: 0 | R47: 0 | S47: 0 | T47: 0 | U47: #DIV/0! | V47: 0 | W47: 0 | X47: 0 | Y47: 0 | Z47: 0 | AA47: 0 | AB47: 0 | AC47: 0 | AD47: 0 | AE47: 0 | AF47: 0 | AG47: 0 | AH47: #DIV/0! | AI47: 0 | AJ47: 0 | AK47: 0 | AL47: 0 | AM47: 0 | AN47: 0 | AO47: 0 | AP47: 0 | AQ47: 0 | AR47: 0 | AS47: 0 | AT47: 0 | AU47: #DIV/0! | AV47: 0 | AW47: 0 | AX47: 0 | AY47: 0 | AZ47: 0 | BA47: 0 | BB47: 0 | BC47: 0 | BD47: 0 | BE47: 0 | BF47: 0 | BG47: 0 | BH47: #DIV/0! | BI47: 0 | BJ47: 0 | BK47: 0 | BL47: 0 | BM47: 0 | BN47: 0 | BO47: 0 | BP47: 0 | BQ47: 0 | BR47: 0 | BS47: 0 | BT47: 0 | BU47: #DIV/0! | BV47: 0 | BW47: 0 | BX47: 0 | BY47: 0 | BZ47: 0 | CA47: 0
A48: Atividade A070201: Instalação e Aquisição de Equipamentos no FRSS | B48: 0 | C48: 0 | D48: 0 | E48: 0 | F48: 0 | G48: 0 | H48: #DIV/0! | I48: 0 | J48: 0 | K48: 0 | L48: 0 | M48: 0 | N48: 0 | O48: 0 | P48: 0 | Q48: 0 | R48: 0 | S48: 0 | T48: 0 | U48: #DIV/0! | V48: 0 | W48: 0 | X48: 0 | Y48: 0 | Z48: 0 | AA48: 0 | AB48: 0 | AC48: 0 | AD48: 0 | AE48: 0 | AF48: 0 | AG48: 0 | AH48: #DIV/0! | AI48: 0 | AJ48: 0 | AK48: 0 | AL48: 0 | AM48: 0 | AN48: 0 | AO48: 0 | AP48: 0 | AQ48: 0 | AR48: 0 | AS48: 0 | AT48: 0 | AU48: #DIV/0! | AV48: 0 | AW48: 0 | AX48: 0 | AY48: 0 | AZ48: 0 | BA48: 0 | BB48: 0 | BC48: 0 | BD48: 0 | BE48: 0 | BF48: 0 | BG48: 0 | BH48: #DIV/0! | BI48: 0 | BJ48: 0 | BK48: 0 | BL48: 0 | BM48: 0 | BN48: 0 | BO48: 0 | BP48: 0 | BQ48: 0 | BR48: 0 | BS48: 0 | BT48: 0 | BU48: #DIV/0! | BV48: 0 | BW48: 0 | BX48: 0 | BY48: 0 | BZ48: 0 | CA48: 0
A49: TOTAL FRSS | B49: 333807 | C49: 333807 | D49: 291086.4 | E49: 103398.51 | F49: 90828.33 | G49: 90828.33 | H49: 0.27209834 | I49: 242978.67 | J49: 42720.6 | K49: 230408.49 | L49: 187687.89 | M49: 12570.18 | N49: 0 | O49: 0 | P49: 0 | Q49: 0 | R49: 0 | S49: 0 | T49: 0 | U49: #DIV/0! | V49: 0 | W49: 0 | X49: 0 | Y49: 0 | Z49: 0 | AA49: 0 | AB49: 333807 | AC49: 333007 | AD49: 290586.4 | AE49: 103398.51 | AF49: 90828.33 | AG49: 90828.33 | AH49: 0.27275201 | AI49: 242178.67 | AJ49: 42420.6 | AK49: 229608.49 | AL49: 187187.89 | AM49: 12570.18 | AN49: 0 | AO49: 0 | AP49: 0 | AQ49: 0 | AR49: 0 | AS49: 0 | AT49: 0 | AU49: #DIV/0! | AV49: 0 | AW49: 0 | AX49: 0 | AY49: 0 | AZ49: 0 | BA49: 0 | BB49: 0 | BC49: 800 | BD49: 500 | BE49: 0 | BF49: 0 | BG49: 0 | BH49: 0 | BI49: 800 | BJ49: 300 | BK49: 800 | BL49: 500 | BM49: 0 | BN49: 0 | BO49: 0 | BP49: 0 | BQ49: 0 | BR49: 0 | BS49: 0 | BT49: 0 | BU49: #DIV/0! | BV49: 0 | BW49: 0 | BX49: 0 | BY49: 0 | BZ49: 0 | CA49: 0
...

Sheet Atividade_A040101
A2: EXECUÇÃO ORÇAMENTAL - INSS
A3: Programa A04 - Regime Contributivo de Repartição
A4: 2026
B5: A04 - Regime Contributivo de Repartição
B6: A0401 - Regime transitório de segurança social
B7: A040101 - Pagamento de prestações sociais de direito - RTSS
AA8: USD
B9: DESPESAS
B10: ATIVIDADE - PAGAMENTO DE PRESTAÇÕES SOCIAIS DE DIREITO - RTSS | C10: OSS inicial | D10: OSS corrigido | E10: Cabimentos | F10: Compromissos | G10: Obrigações | H10: Janeiro | I10: Fevereiro | J10: Março | K10: Abril | L10: Maio | M10: Junho | N10: Julho | O10: Agosto | P10: Setembro | Q10: Outubro | R10: Novembro | S10: Dezembro | T10: Total Execução | U10: Taxa Execução (%) | V10: Saldo Execução | W10: Saldo disponível (Execução+Cabimentos) | X10: Saldo não comprometido | Y10: Valor Cabimentado e não comprometido | Z10: Valor Comprometido e não liquidado | AA10: Valor Liquidado e não pago (DIVIDA)
E11: janeiro a setembro | F11: janeiro a setembro | G11: janeiro a setembro | T11: janeiro a setembro | U11: janeiro a setembro
C12: (1) | D12: (2) | E12: (3) | F12: (4) | G12: (5) | H12: (6) | I12: (6) | J12: (6) | K12: (6) | L12: (6) | M12: (6) | N12: (6) | O12: (6) | P12: (6) | Q12: (6) | R12: (6) | S12: (6) | T12: (7) = ∑(6) | U12: (8) = (7)/(2) | V12: (9) = (2) - (7) | W12: (10) = (2) - (3) | X12: (11) = (2) - (4) | Y12: (12) = (3) - (4) | Z12: (13) = (4) - (5) | AA12: (14) = (5) - (7)
B13: 501 - SALÁRIOS E VENCIMENTOS | C13: 0 | D13: 0 | E13: 0 | F13: 0 | G13: 0 | H13: 0 | I13: 0 | J13: 0 | K13: 0 | L13: 0 | M13: 0 | N13: 0 | O13: 0 | P13: 0 | Q13: 0 | R13: 0 | S13: 0 | T13: 0 | U13: #DIV/0! | V13: 0 | W13: 0 | X13: 0 | Y13: 0 | Z13: 0 | AA13: 0
B14: 501.01 - Salários e abonos regulares e permanentes | C14: 0 | D14: 0 | E14: 0 | F14: 0 | G14: 0 | H14: 0 | I14: 0 | J14: 0 | K14: 0 | L14: 0 | M14: 0 | N14: 0 | O14: 0 | P14: 0 | Q14: 0 | R14: 0 | S14: 0 | T14: 0 | U14: #DIV/0! | V14: 0 | W14: 0 | X14: 0 | Y14: 0 | Z14: 0 | AA14: 0
A15: 501.01.01 - SALÁRIOS E VENCIMENTOS - Salários e abonos regulares e permanentes - Salários de titulares de cargos políticos | B15: 501.01.01 - Salários de titulares de cargos políticos | C15: 0 | D15: 0 | E15: 0 | F15: 0 | G15: 0 | H15: 0 | I15: 0 | J15: 0 | K15: 0 | L15: 0 | M15: 0 | N15: 0 | O15: 0 | P15: 0 | Q15: 0 | R15: 0 | S15: 0 | T15: 0 | U15: #DIV/0! | V15: 0 | W15: 0 | X15: 0 | Y15: 0 | Z15: 0 | AA15: 0
A16: 501.01.02 - SALÁRIOS E VENCIMENTOS - Salários e abonos regulares e permanentes - Salários de membros de órgãos de direção | B16: 501.01.02 - Salários de membros de órgãos de direção | C16: 0 | D16: 0 | E16: 0 | F16: 0 | G16: 0 | H16: 0 | I16: 0 | J16: 0 | K16: 0 | L16: 0 | M16: 0 | N16: 0 | O16: 0 | P16: 0 | Q16: 0 | R16: 0 | S16: 0 | T16: 0 | U16: #DIV/0! | V16: 0 | W16: 0 | X16: 0 | Y16: 0 | Z16: 0 | AA16: 0
A17: 501.01.03 - SALÁRIOS E VENCIMENTOS - Salários e abonos regulares e permanentes - Salários de titulares de cargos de direção e chefia | B17: 501.01.03 - Salários de titulares de cargos de direção e chefia | C17: 0 | D17: 0 | E17: 0 | F17: 0 | G17: 0 | H17: 0 | I17: 0 | J17: 0 | K17: 0 | L17: 0 | M17: 0 | N17: 0 | O17: 0 | P17: 0 | Q17: 0 | R17: 0 | S17: 0 | T17: 0 | U17: #DIV/0! | V17: 0 | W17: 0 | X17: 0 | Y17: 0 | Z17: 0 | AA17: 0
A18: 501.01.04 - SALÁRIOS E VENCIMENTOS - Salários e abonos regulares e permanentes - Salários de funcionários e agentes | B18: 501.01.04 - Salários de funcionários e agentes | C18: 0 | D18: 0 | E18: 0 | F18: 0 | G18: 0 | H18: 0 | I18: 0 | J18: 0 | K18: 0 | L18: 0 | M18: 0 | N18: 0 | O18: 0 | P18: 0 | Q18: 0 | R18: 0 | S18: 0 | T18: 0 | U18: #DIV/0! | V18: 0 | W18: 0 | X18: 0 | Y18: 0 | Z18: 0 | AA18: 0
A19: 501.01.05 - SALÁRIOS E VENCIMENTOS - Salários e abonos regulares e permanentes - Salários de contratados nacionais | B19: 501.01.05 - Salários de contratados nacionais | C19: 0 | D19: 0 | E19: 0 | F19: 0 | G19: 0 | H19: 0 | I19: 0 | J19: 0 | K19: 0 | L19: 0 | M19: 0 | N19: 0 | O19: 0 | P19: 0 | Q19: 0 | R19: 0 | S19: 0 | T19: 0 | U19: #DIV/0! | V19: 0 | W19: 0 | X19: 0 | Y19: 0 | Z19: 0 | AA19: 0
A20: 501.01.06 - SALÁRIOS E VENCIMENTOS - Salários e abonos regulares e permanentes - Salários de contratados internacionais | B20: 501.01.06 - Salários de contratados internacionais | C20: 0 | D20: 0 | E20: 0 | F20: 0 | G20: 0 | H20: 0 | I20: 0 | J20: 0 | K20: 0 | L20: 0 | M20: 0 | N20: 0 | O20: 0 | P20: 0 | Q20: 0 | R20: 0 | S20: 0 | T20: 0 | U20: #DIV/0! | V20: 0 | W20: 0 | X20: 0 | Y20: 0 | Z20: 0 | AA20: 0
A21: 501.01.07 - SALÁRIOS E VENCIMENTOS - Salários e abonos regulares e permanentes - Salários de estagiários do Centro de Formação Jurídica e Judiciária | B21: 501.01.07 - Salários de estagiários do Centro de Formação Jurídica e Judiciária | C21: 0 | D21: 0 | E21: 0 | F21: 0 | G21: 0 | H21: 0 | I21: 0 | J21: 0 | K21: 0 | L21: 0 | M21: 0 | N21: 0 | O21: 0 | P21: 0 | Q21: 0 | R21: 0 | S21: 0 | T21: 0 | U21: #DIV/0! | V21: 0 | W21: 0 | X21: 0 | Y21: 0 | Z21: 0 | AA21: 0
A22: 501.01.08 - SALÁRIOS E VENCIMENTOS - Salários e abonos regulares e permanentes - Salários de estagiários do Fundo de Desenvolvimento de Capital Humano | B22: 501.01.08 - Salários de estagiários do Fundo de Desenvolvimento de Capital Humano | C22: 0 | D22: 0 | E22: 0 | F22: 0 | G22: 0 | H22: 0 | I22: 0 | J22: 0 | K22: 0 | L22: 0 | M22: 0 | N22: 0 | O22: 0 | P22: 0 | Q22: 0 | R22: 0 | S22: 0 | T22: 0 | U22: #DIV/0! | V22: 0 | W22: 0 | X22: 0 | Y22: 0 | Z22: 0 | AA22: 0
A23: 501.01.09 - SALÁRIOS E VENCIMENTOS - Salários e abonos regulares e permanentes - Salários de outros beneficiários | B23: 501.01.09 - Salários de outros beneficiários | C23: 0 | D23: 0 | E23: 0 | F23: 0 | G23: 0 | H23: 0 | I23: 0 | J23: 0 | K23: 0 | L23: 0 | M23: 0 | N23: 0 | O23: 0 | P23: 0 | Q23: 0 | R23: 0 | S23: 0 | T23: 0 | U23: #DIV/0! | V23: 0 | W23: 0 | X23: 0 | Y23: 0 | Z23: 0 | AA23: 0
A24: 501.01.10 - SALÁRIOS E VENCIMENTOS - Salários e abonos regulares e permanentes - Abono para despesas de representação | B24: 501.01.10 - Abono para despesas de representação | C24: 0 | D24: 0 | E24: 0 | F24: 0 | G24: 0 | H24: 0 | I24: 0 | J24: 0 | K24: 0 | L24: 0 | M24: 0 | N24: 0 | O24: 0 | P24: 0 | Q24: 0 | R24: 0 | S24: 0 | T24: 0 | U24: #DIV/0! | V24: 0 | W24: 0 | X24: 0 | Y24: 0 | Z24: 0 | AA24: 0
A25: 501.01.11 - SALÁRIOS E VENCIMENTOS - Salários e abonos regulares e permanentes - Décimo terceiro mês | B25: 501.01.11 - Décimo terceiro mês | C25: 0 | D25: 0 | E25: 0 | F25: 0 | G25: 0 | H25: 0 | I25: 0 | J25: 0 | K25: 0 | L25: 0 | M25: 0 | N25: 0 | O25: 0 | P25: 0 | Q25: 0 | R25: 0 | S25: 0 | T25: 0 | U25: #DIV/0! | V25: 0 | W25: 0 | X25: 0 | Y25: 0 | Z25: 0 | AA25: 0
A26: 501.01.12 - SALÁRIOS E VENCIMENTOS - Salários e abonos regulares e permanentes - Outros abonos regulares e permanentes | B26: 501.01.12 - Outros abonos regulares e permanentes | C26: 0 | D26: 0 | E26: 0 | F26: 0 | G26: 0 | H26: 0 | I26: 0 | J26: 0 | K26: 0 | L26: 0 | M26: 0 | N26: 0 | O26: 0 | P26: 0 | Q26: 0 | R26: 0 | S26: 0 | T26: 0 | U26: #DIV/0! | V26: 0 | W26: 0 | X26: 0 | Y26: 0 | Z26: 0 | AA26: 0
B27: 501.02 - Abonos variáveis ou eventuais | C27: 0 | D27: 0 | E27: 0 | F27: 0 | G27: 0 | H27: 0 | I27: 0 | J27: 0 | K27: 0 | L27: 0 | M27: 0 | N27: 0 | O27: 0 | P27: 0 | Q27: 0 | R27: 0 | S27: 0 | T27: 0 | U27: #DIV/0! | V27: 0 | W27: 0 | X27: 0 | Y27: 0 | Z27: 0 | AA27: 0
A28: 501.02.01 - SALÁRIOS E VENCIMENTOS - Abonos variáveis ou eventuais - Horas extraordinárias | B28: 501.02.01 - Horas extraordinárias | C28: 0 | D28: 0 | E28: 0 | F28: 0 | G28: 0 | H28: 0 | I28: 0 | J28: 0 | K28: 0 | L28: 0 | M28: 0 | N28: 0 | O28: 0 | P28: 0 | Q28: 0 | R28: 0 | S28: 0 | T28: 0 | U28: #DIV/0! | V28: 0 | W28: 0 | X28: 0 | Y28: 0 | Z28: 0 | AA28: 0
A29: 501.02.02 - SALÁRIOS E VENCIMENTOS - Abonos variáveis ou eventuais - Subsídio mensal de transporte | B29: 501.02.02 - Subsídio mensal de transporte | C29: 0 | D29: 0 | E29: 0 | F29: 0 | G29: 0 | H29: 0 | I29: 0 | J29: 0 | K29: 0 | L29: 0 | M29: 0 | N29: 0 | O29: 0 | P29: 0 | Q29: 0 | R29: 0 | S29: 0 | T29: 0 | U29: #DIV/0! | V29: 0 | W29: 0 | X29: 0 | Y29: 0 | Z29: 0 | AA29: 0
A30: 501.02.03 - SALÁRIOS E VENCIMENTOS - Abonos variáveis ou eventuais - Ajudas de custo por recolocação | B30: 501.02.03 - Ajudas de custo por recolocação | C30: 0 | D30: 0 | E30: 0 | F30: 0 | G30: 0 | H30: 0 | I30: 0 | J30: 0 | K30: 0 | L30: 0 | M30: 0 | N30: 0 | O30: 0 | P30: 0 | Q30: 0 | R30: 0 | S30: 0 | T30: 0 | U30: #DIV/0! | V30: 0 | W30: 0 | X30: 0 | Y30: 0 | Z30: 0 | AA30: 0
A31: 501.02.04 - SALÁRIOS E VENCIMENTOS - Abonos variáveis ou eventuais - Suplemento de turno | B31: 501.02.04 - Suplemento de turno | C31: 0 | D31: 0 | E31: 0 | F31: 0 | G31: 0 | H31: 0 | I31: 0 | J31: 0 | K31: 0 | L31: 0 | M31: 0 | N31: 0 | O31: 0 | P31: 0 | Q31: 0 | R31: 0 | S31: 0 | T31: 0 | U31: #DIV/0! | V31: 0 | W31: 0 | X31: 0 | Y31: 0 | Z31: 0 | AA31: 0
A32: 501.02.05 - SALÁRIOS E VENCIMENTOS - Abonos variáveis ou eventuais - Suplemento por trabalho em local remoto ou de difícil acesso | B32: 501.02.05 - Suplemento por trabalho em local remoto ou de difícil acesso | C32: 0 | D32: 0 | E32: 0 | F32: 0 | G32: 0 | H32: 0 | I32: 0 | J32: 0 | K32: 0 | L32: 0 | M32: 0 | N32: 0 | O32: 0 | P32: 0 | Q32: 0 | R32: 0 | S32: 0 | T32: 0 | U32: #DIV/0! | V32: 0 | W32: 0 | X32: 0 | Y32: 0 | Z32: 0 | AA32: 0
A33: 501.02.06 - SALÁRIOS E VENCIMENTOS - Abonos variáveis ou eventuais - Subsídio de alojamento | B33: 501.02.06 - Subsídio de alojamento | C33: 0 | D33: 0 | E33: 0 | F33: 0 | G33: 0 | H33: 0 | I33: 0 | J33: 0 | K33: 0 | L33: 0 | M33: 0 | N33: 0 | O33: 0 | P33: 0 | Q33: 0 | R33: 0 | S33: 0 | T33: 0 | U33: #DIV/0! | V33: 0 | W33: 0 | X33: 0 | Y33: 0 | Z33: 0 | AA33: 0
A34: 501.02.07 - SALÁRIOS E VENCIMENTOS - Abonos variáveis ou eventuais - Subsídio de alimentação | B34: 501.02.07 - Subsídio de alimentação | C34: 0 | D34: 0 | E34: 0 | F34: 0 | G34: 0 | H34: 0 | I34: 0 | J34: 0 | K34: 0 | L34: 0 | M34: 0 | N34: 0 | O34: 0 | P34: 0 | Q34: 0 | R34: 0 | S34: 0 | T34: 0 | U34: #DIV/0! | V34: 0 | W34: 0 | X34: 0 | Y34: 0 | Z34: 0 | AA34: 0
A35: 501.02.08 - SALÁRIOS E VENCIMENTOS - Abonos variáveis ou eventuais - Subsídio de risco | B35: 501.02.08 - Subsídio de risco | C35: 0 | D35: 0 | E35: 0 | F35: 0 | G35: 0 | H35: 0 | I35: 0 | J35: 0 | K35: 0 | L35: 0 | M35: 0 | N35: 0 | O35: 0 | P35: 0 | Q35: 0 | R35: 0 | S35: 0 | T35: 0 | U35: #DIV/0! | V35: 0 | W35: 0 | X35: 0 | Y35: 0 | Z35: 0 | AA35: 0
A36: 501.02.09 - SALÁRIOS E VENCIMENTOS - Abonos variáveis ou eventuais - Outros abonos variáveis ou eventuais | B36: 501.02.09 - Outros abonos variáveis ou eventuais | C36: 0 | D36: 0 | E36: 0 | F36: 0 | G36: 0 | H36: 0 | I36: 0 | J36: 0 | K36: 0 | L36: 0 | M36: 0 | N36: 0 | O36: 0 | P36: 0 | Q36: 0 | R36: 0 | S36: 0 | T36: 0 | U36: #DIV/0! | V36: 0 | W36: 0 | X36: 0 | Y36: 0 | Z36: 0 | AA36: 0
A37: 501.03 - SALÁRIOS E VENCIMENTOS - Contribuição para a Segurança Social como entidade empregadora | B37: 501.03 - Contribuição para a Segurança Social como entidade empregadora | C37: 0 | D37: 0 | E37: 0 | F37: 0 | G37: 0 | H37: 0 | I37: 0 | J37: 0 | K37: 0 | L37: 0 | M37: 0 | N37: 0 | O37: 0 | P37: 0 | Q37: 0 | R37: 0 | S37: 0 | T37: 0 | U37: #DIV/0! | V37: 0 | W37: 0 | X37: 0 | Y37: 0 | Z37: 0 | AA37: 0
A38: 501.04 - SALÁRIOS E VENCIMENTOS - Outras despesas com pessoal | B38: 501.04 - Outras despesas com pessoal | C38: 0 | D38: 0 | E38: 0 | F38: 0 | G38: 0 | H38: 0 | I38: 0 | J38: 0 | K38: 0 | L38: 0 | M38: 0 | N38: 0 | O38: 0 | P38: 0 | Q38: 0 | R38: 0 | S38: 0 | T38: 0 | U38: #DIV/0! | V38: 0 | W38: 0 | X38: 0 | Y38: 0 | Z38: 0 | AA38: 0
B39: 502 - BENS E SERVIÇOS CORRENTES | C39: 0 | D39: 0 | E39: 0 | F39: 0 | G39: 0 | H39: 0 | I39: 0 | J39: 0 | K39: 0 | L39: 0 | M39: 0 | N39: 0 | O39: 0 | P39: 0 | Q39: 0 | R39: 0 | S39: 0 | T39: 0 | U39: #DIV/0! | V39: 0 | W39: 0 | X39: 0 | Y39: 0 | Z39: 0 | AA39: 0
A40: 502.01 - BENS E SERVIÇOS CORRENTES - Matérias-primas e subsidiárias | B40: 502.01 - Matérias-primas e subsidiárias | C40: 0 | D40: 0 | E40: 0 | F40: 0 | G40: 0 | H40: 0 | I40: 0 | J40: 0 | K40: 0 | L40: 0 | M40: 0 | N40: 0 | O40: 0 | P40: 0 | Q40: 0 | R40: 0 | S40: 0 | T40: 0 | U40: #DIV/0! | V40: 0 | W40: 0 | X40: 0 | Y40: 0 | Z40: 0 | AA40: 0
A41: 502.02 - BENS E SERVIÇOS CORRENTES - Mercadorias para venda | B41: 502.02 - Mercadorias para venda | C41: 0 | D41: 0 | E41: 0 | F41: 0 | G41: 0 | H41: 0 | I41: 0 | J41: 0 | K41: 0 | L41: 0 | M41: 0 | N41: 0 | O41: 0 | P41: 0 | Q41: 0 | R41: 0 | S41: 0 | T41: 0 | U41: #DIV/0! | V41: 0 | W41: 0 | X41: 0 | Y41: 0 | Z41: 0 | AA41: 0
...

Sheet Atividade_A040201
A2: EXECUÇÃO ORÇAMENTAL - INSS
A3: Programa A04 - Regime Contributivo de Repartição
A4: 2026
B5: A04 - Regime Contributivo de Repartição
B6: A0402 - Regime geral de segurança social
B7: A040201 - Pagamento de prestações sociais de direito - RGSS
AA8: USD
B9: DESPESAS
B10: ATIVIDADE - PAGAMENTO DE PRESTAÇÕES SOCIAIS DE DIREITO - RGSS | C10: OSS inicial | D10: OSS corrigido | E10: Cabimentos | F10: Compromissos | G10: Obrigações | H10: Janeiro | I10: Fevereiro | J10: Março | K10: Abril | L10: Maio | M10: Junho | N10: Julho | O10: Agosto | P10: Setembro | Q10: Outubro | R10: Novembro | S10: Dezembro | T10: Total Execução | U10: Taxa Execução (%) | V10: Saldo Execução | W10: Saldo disponível (Execução+Cabimentos) | X10: Saldo não comprometido | Y10: Valor Cabimentado e não comprometido | Z10: Valor Comprometido e não liquidado | AA10: Valor Liquidado e não pago (DIVIDA)
E11: janeiro a setembro | F11: janeiro a setembro | G11: janeiro a setembro | T11: janeiro a setembro | U11: janeiro a setembro
C12: (1) | D12: (2) | E12: (3) | F12: (4) | G12: (5) | H12: (6) | I12: (6) | J12: (6) | K12: (6) | L12: (6) | M12: (6) | N12: (6) | O12: (6) | P12: (6) | Q12: (6) | R12: (6) | S12: (6) | T12: (7) = ∑(6) | U12: (8) = (7)/(2) | V12: (9) = (2) - (7) | W12: (10) = (2) - (3) | X12: (11) = (2) - (4) | Y12: (12) = (3) - (4) | Z12: (13) = (4) - (5) | AA12: (14) = (5) - (7)
B13: 501 - SALÁRIOS E VENCIMENTOS | C13: 0 | D13: 0 | E13: 0 | F13: 0 | G13: 0 | H13: 0 | I13: 0 | J13: 0 | K13: 0 | L13: 0 | M13: 0 | N13: 0 | O13: 0 | P13: 0 | Q13: 0 | R13: 0 | S13: 0 | T13: 0 | U13: #DIV/0! | V13: 0 | W13: 0 | X13: 0 | Y13: 0 | Z13: 0 | AA13: 0
B14: 501.01 - Salários e abonos regulares e permanentes | C14: 0 | D14: 0 | E14: 0 | F14: 0 | G14: 0 | H14: 0 | I14: 0 | J14: 0 | K14: 0 | L14: 0 | M14: 0 | N14: 0 | O14: 0 | P14: 0 | Q14: 0 | R14: 0 | S14: 0 | T14: 0 | U14: #DIV/0! | V14: 0 | W14: 0 | X14: 0 | Y14: 0 | Z14: 0 | AA14: 0
A15: 501.01.01 - SALÁRIOS E VENCIMENTOS - Salários e abonos regulares e permanentes - Salários de titulares de cargos políticos | B15: 501.01.01 - Salários de titulares de cargos políticos | C15: 0 | D15: 0 | E15: 0 | F15: 0 | G15: 0 | H15: 0 | I15: 0 | J15: 0 | K15: 0 | L15: 0 | M15: 0 | N15: 0 | O15: 0 | P15: 0 | Q15: 0 | R15: 0 | S15: 0 | T15: 0 | U15: #DIV/0! | V15: 0 | W15: 0 | X15: 0 | Y15: 0 | Z15: 0 | AA15: 0
A16: 501.01.02 - SALÁRIOS E VENCIMENTOS - Salários e abonos regulares e permanentes - Salários de membros de órgãos de direção | B16: 501.01.02 - Salários de membros de órgãos de direção | C16: 0 | D16: 0 | E16: 0 | F16: 0 | G16: 0 | H16: 0 | I16: 0 | J16: 0 | K16: 0 | L16: 0 | M16: 0 | N16: 0 | O16: 0 | P16: 0 | Q16: 0 | R16: 0 | S16: 0 | T16: 0 | U16: #DIV/0! | V16: 0 | W16: 0 | X16: 0 | Y16: 0 | Z16: 0 | AA16: 0
